BEGIN:VCALENDAR
VERSION:2.0
PRODID:-//Drupal iCal API//EN
X-WR-CALNAME:infoclio.ch - The Swiss portal for the historical sciences: Ca
 lendar
X-WR-TIMEZONE:Europe/Zurich
BEGIN:VTIMEZONE
TZID:Europe/Zurich
X-LIC-LOCATION:Europe/Zurich
BEGIN:DAYLIGHT
TZNAME:CEST
TZOFFSETFROM:+0100
TZOFFSETTO:+0200
DTSTART:20260329T010000
END:DAYLIGHT
BEGIN:STANDARD
TZNAME:CET
TZOFFSETFROM:+0200
TZOFFSETTO:+0100
DTSTART:20251026T010000
END:STANDARD
END:VTIMEZONE
BEGIN:VEVENT
UID:d4aa59b4-abc7-485e-9e0f-76e36e5540ba
DTSTART;TZID=Europe/Zurich:20260521T180000
SEQUENCE:0
TRANSP:TRANSPARENT
DTEND;TZID=Europe/Zurich:20260521T180000
URL:https://www.infoclio.ch/it/vernissage-die-von-orelli-glaube-%E2%80%93-s
 eide-%E2%80%93-gute-partien
LOCATION:Zunfthaus zur Saffran\,Zürich
SUMMARY:Vernissage: Die von Orelli. Glaube – Seide – Gute Partien
CLASS:PUBLIC
DTSTAMP:20260423T151213Z
END:VEVENT
END:VCALENDAR