BEGIN:VCALENDAR
VERSION:2.0
PRODID:-//Drupal iCal API//EN
X-WR-CALNAME:infoclio.ch - The Swiss portal for the historical sciences: Ca
 lendar
X-WR-TIMEZONE:Europe/Zurich
BEGIN:VTIMEZONE
TZID:Europe/Zurich
X-LIC-LOCATION:Europe/Zurich
BEGIN:DAYLIGHT
TZNAME:CEST
TZOFFSETFROM:+0100
TZOFFSETTO:+0200
DTSTART:20260329T010000
END:DAYLIGHT
BEGIN:STANDARD
TZNAME:CET
TZOFFSETFROM:+0200
TZOFFSETTO:+0100
DTSTART:20251026T010000
END:STANDARD
BEGIN:STANDARD
TZNAME:CET
TZOFFSETFROM:+0200
TZOFFSETTO:+0100
DTSTART:20261025T010000
END:STANDARD
END:VTIMEZONE
BEGIN:VEVENT
UID:077bea5c-f28e-4bc3-90c6-313d3bef8818
DTSTART;TZID=Europe/Zurich:20260502T000000
SEQUENCE:0
TRANSP:TRANSPARENT
DTEND;TZID=Europe/Zurich:20261129T235959
URL:https://www.infoclio.ch/it/vom-tafelbild-zum-touchscreen-bildung-appenz
 ell-ausserrhoden-seit-1800
LOCATION:Museum Herisau\,Herisau
SUMMARY:Vom Tafelbild zum Touchscreen - Bildung in Appenzell Ausserrhoden s
 eit\n1800 
CLASS:PUBLIC
DTSTAMP:20260422T071024Z
END:VEVENT
END:VCALENDAR