BEGIN:VCALENDAR
VERSION:2.0
PRODID:-//Drupal iCal API//EN
X-WR-CALNAME:infoclio.ch - The Swiss portal for the historical sciences: Ca
 lendar
X-WR-TIMEZONE:Europe/Zurich
BEGIN:VTIMEZONE
TZID:Europe/Zurich
X-LIC-LOCATION:Europe/Zurich
BEGIN:DAYLIGHT
TZNAME:CEST
TZOFFSETFROM:+0100
TZOFFSETTO:+0200
DTSTART:20260329T010000
END:DAYLIGHT
BEGIN:STANDARD
TZNAME:CET
TZOFFSETFROM:+0200
TZOFFSETTO:+0100
DTSTART:20251026T010000
END:STANDARD
END:VTIMEZONE
BEGIN:VEVENT
UID:881f5f98-fd72-4a57-9fc3-a6c941b2d9e6
DTSTART;TZID=Europe/Zurich:20260423T173000
SEQUENCE:0
TRANSP:TRANSPARENT
DTEND;TZID=Europe/Zurich:20260423T200000
URL:https://www.infoclio.ch/it/gen%C3%A8ve-%C3%A0-l%E2%80%99ombre-du-iiie-r
 eich
LOCATION:Château de Morges\,Morges
SUMMARY:Genève à l’ombre du IIIe Reich
CLASS:PUBLIC
DTSTAMP:20260422T071914Z
END:VEVENT
END:VCALENDAR