BEGIN:VCALENDAR
VERSION:2.0
PRODID:-//Drupal iCal API//EN
X-WR-CALNAME:infoclio.ch - The Swiss portal for the historical sciences: Ca
 lendar
X-WR-TIMEZONE:Europe/Zurich
BEGIN:VTIMEZONE
TZID:Europe/Zurich
X-LIC-LOCATION:Europe/Zurich
BEGIN:DAYLIGHT
TZNAME:CEST
TZOFFSETFROM:+0100
TZOFFSETTO:+0200
DTSTART:20260329T010000
END:DAYLIGHT
BEGIN:STANDARD
TZNAME:CET
TZOFFSETFROM:+0200
TZOFFSETTO:+0100
DTSTART:20251026T010000
END:STANDARD
END:VTIMEZONE
BEGIN:VEVENT
UID:47511e08-61a6-4d42-9143-96c3bc5a2a2e
DTSTART;TZID=Europe/Zurich:20260430T181500
SEQUENCE:0
TRANSP:TRANSPARENT
DTEND;TZID=Europe/Zurich:20260430T200000
URL:https://www.infoclio.ch/it/la-r%C3%A9volution-bolivarienne-et-cubaine-q
 uelle-place-dans-lhistoire-quelles-perspectives
LOCATION:MIS 03 Auditoire C\,Fribourg
SUMMARY:La révolution bolivarienne et cubaine\, quelle place dans lhistoir
 e?\nQuelles perspectives?
CLASS:PUBLIC
DTSTAMP:20260421T122016Z
END:VEVENT
END:VCALENDAR