BEGIN:VCALENDAR
VERSION:2.0
PRODID:-//Drupal iCal API//EN
X-WR-CALNAME:infoclio.ch - The Swiss portal for the historical sciences: Ca
 lendar
X-WR-TIMEZONE:Europe/Zurich
BEGIN:VTIMEZONE
TZID:Europe/Zurich
X-LIC-LOCATION:Europe/Zurich
BEGIN:DAYLIGHT
TZNAME:CEST
TZOFFSETFROM:+0100
TZOFFSETTO:+0200
DTSTART:20260329T010000
END:DAYLIGHT
BEGIN:STANDARD
TZNAME:CET
TZOFFSETFROM:+0200
TZOFFSETTO:+0100
DTSTART:20251026T010000
END:STANDARD
END:VTIMEZONE
BEGIN:VEVENT
UID:ad1719f5-131b-474a-8ab4-47294ed0ae82
DTSTART;TZID=Europe/Zurich:20260423T180000
SEQUENCE:0
TRANSP:TRANSPARENT
DTEND;TZID=Europe/Zurich:20260423T180000
URL:https://www.infoclio.ch/it/vernissage-les-sports-moderne
LOCATION:usée d'art et d'histoire Fribourg\,
SUMMARY:Vernissage: Les Sports Moderne
CLASS:PUBLIC
DTSTAMP:20260420T150601Z
END:VEVENT
END:VCALENDAR