BEGIN:VCALENDAR
VERSION:2.0
PRODID:-//Drupal iCal API//EN
X-WR-CALNAME:infoclio.ch - The Swiss portal for the historical sciences: Ca
 lendar
X-WR-TIMEZONE:Europe/Zurich
BEGIN:VTIMEZONE
TZID:Europe/Zurich
X-LIC-LOCATION:Europe/Zurich
BEGIN:DAYLIGHT
TZNAME:CEST
TZOFFSETFROM:+0100
TZOFFSETTO:+0200
DTSTART:20250330T010000
END:DAYLIGHT
BEGIN:STANDARD
TZNAME:CET
TZOFFSETFROM:+0200
TZOFFSETTO:+0100
DTSTART:20251026T010000
END:STANDARD
END:VTIMEZONE
BEGIN:VEVENT
UID:3f5cddc5-231f-4e40-a075-fea1eb1fc2ee
DTSTART;TZID=Europe/Zurich:20260326T173000
SEQUENCE:0
TRANSP:TRANSPARENT
DTEND;TZID=Europe/Zurich:20260326T173000
URL:https://www.infoclio.ch/it/buchvernissage-famili%C3%A4re-f%C3%BCrsorge-
 aushandeln-private-und-staatliche-akteurinnen-der
LOCATION:Staatsarchiv Bern\,Bern
SUMMARY:Buchvernissage: Familiäre Fürsorge aushandeln. Private und\nstaat
 liche Akteur:innen in der Pflegekinderbetreuung im Kanton Bern\n(1880–20
 20)
CLASS:PUBLIC
DTSTAMP:20260422T120630Z
END:VEVENT
END:VCALENDAR