BEGIN:VCALENDAR
VERSION:2.0
PRODID:-//Drupal iCal API//EN
X-WR-CALNAME:infoclio.ch - The Swiss portal for the historical sciences: Ca
 lendar
X-WR-TIMEZONE:Europe/Zurich
BEGIN:VTIMEZONE
TZID:Europe/Zurich
X-LIC-LOCATION:Europe/Zurich
BEGIN:DAYLIGHT
TZNAME:CEST
TZOFFSETFROM:+0100
TZOFFSETTO:+0200
DTSTART:20250330T010000
END:DAYLIGHT
BEGIN:STANDARD
TZNAME:CET
TZOFFSETFROM:+0200
TZOFFSETTO:+0100
DTSTART:20251026T010000
END:STANDARD
END:VTIMEZONE
BEGIN:VEVENT
UID:e518d625-9ea8-476b-ba3f-1cda1ef19cdb
DTSTART;TZID=Europe/Zurich:20260315T000000
SEQUENCE:0
TRANSP:TRANSPARENT
DTEND;TZID=Europe/Zurich:20260315T235959
URL:https://www.infoclio.ch/it/cfp-exile-diaspora-southeast-european-intell
 ectuals-and-political-activists-abroad-0
LOCATION:\,
SUMMARY:CfP: From Exile to Diaspora: Southeast European Intellectuals and\n
 Political Activists Abroad 
CLASS:PUBLIC
DTSTAMP:20260421T100710Z
END:VEVENT
END:VCALENDAR