BEGIN:VCALENDAR
VERSION:2.0
PRODID:-//Drupal iCal API//EN
X-WR-CALNAME:infoclio.ch - The Swiss portal for the historical sciences: Ca
 lendar
X-WR-TIMEZONE:Europe/Zurich
BEGIN:VTIMEZONE
TZID:Europe/Zurich
X-LIC-LOCATION:Europe/Zurich
BEGIN:DAYLIGHT
TZNAME:CEST
TZOFFSETFROM:+0100
TZOFFSETTO:+0200
DTSTART:20250330T010000
END:DAYLIGHT
BEGIN:STANDARD
TZNAME:CET
TZOFFSETFROM:+0200
TZOFFSETTO:+0100
DTSTART:20251026T010000
END:STANDARD
END:VTIMEZONE
BEGIN:VEVENT
UID:b6603ba6-6875-415a-9720-e13bc7f2a580
DTSTART;TZID=Europe/Zurich:20260113T190000
SEQUENCE:0
TRANSP:TRANSPARENT
DTEND;TZID=Europe/Zurich:20260113T201500
URL:https://www.infoclio.ch/it/die-revolution-von-saint-domingue-und-die-fr
 age-der-sklaverei-den-atlantischen-revolutionen
LOCATION:Universität Zürich-Zentrum mit Live-Übertragung\,Zürich
SUMMARY:Die Revolution von Saint-Domingue und die Frage der Sklaverei in de
 n\nAtlantischen Revolutionen
CLASS:PUBLIC
DTSTAMP:20260423T164832Z
END:VEVENT
END:VCALENDAR