BEGIN:VCALENDAR
VERSION:2.0
PRODID:-//Drupal iCal API//EN
X-WR-CALNAME:infoclio.ch - The Swiss portal for the historical sciences: Ca
 lendar
X-WR-TIMEZONE:Europe/Zurich
BEGIN:VTIMEZONE
TZID:Europe/Zurich
X-LIC-LOCATION:Europe/Zurich
BEGIN:DAYLIGHT
TZNAME:CEST
TZOFFSETFROM:+0100
TZOFFSETTO:+0200
DTSTART:20250330T010000
END:DAYLIGHT
BEGIN:STANDARD
TZNAME:CET
TZOFFSETFROM:+0200
TZOFFSETTO:+0100
DTSTART:20241027T010000
END:STANDARD
END:VTIMEZONE
BEGIN:VEVENT
UID:27f2496a-310d-45a2-a470-f22c55ecb216
DTSTART;TZID=Europe/Zurich:20250917T123000
SEQUENCE:0
TRANSP:TRANSPARENT
DTEND;TZID=Europe/Zurich:20250917T131500
URL:https://www.infoclio.ch/it/im-namen-des-kreuzes-schweizer-missionarinne
 n-der-kolonialen-welt
LOCATION:Online\,
SUMMARY:Im Namen des Kreuzes: Schweizer Missionar:innen in der kolonialen W
 elt
CLASS:PUBLIC
DTSTAMP:20260422T152812Z
END:VEVENT
END:VCALENDAR