BEGIN:VCALENDAR
VERSION:2.0
PRODID:-//Drupal iCal API//EN
X-WR-CALNAME:infoclio.ch - The Swiss portal for the historical sciences: Ca
 lendar
X-WR-TIMEZONE:Europe/Zurich
BEGIN:VTIMEZONE
TZID:Europe/Zurich
X-LIC-LOCATION:Europe/Zurich
BEGIN:DAYLIGHT
TZNAME:CEST
TZOFFSETFROM:+0100
TZOFFSETTO:+0200
DTSTART:20240331T010000
END:DAYLIGHT
BEGIN:STANDARD
TZNAME:CET
TZOFFSETFROM:+0200
TZOFFSETTO:+0100
DTSTART:20241027T010000
END:STANDARD
END:VTIMEZONE
BEGIN:VEVENT
UID:06c9feba-c6cf-4923-b081-b70a097d1e7d
DTSTART;VALUE=DATE:20241101
SEQUENCE:0
TRANSP:TRANSPARENT
DTEND;VALUE=DATE:20241102
URL:https://www.infoclio.ch/it/cfp-neoliberalism-and-capitalists
LOCATION:University of Lausanne\,
SUMMARY:CfP: Neoliberalism and the Capitalists
CLASS:PUBLIC
X-MICROSOFT-CDO-ALLDAYEVENT:TRUE
DTSTAMP:20260421T082654Z
END:VEVENT
END:VCALENDAR