BEGIN:VCALENDAR
VERSION:2.0
PRODID:-//Drupal iCal API//EN
X-WR-CALNAME:infoclio.ch - The Swiss portal for the historical sciences: Ca
 lendar
X-WR-TIMEZONE:Europe/Zurich
BEGIN:VTIMEZONE
TZID:Europe/Zurich
X-LIC-LOCATION:Europe/Zurich
BEGIN:DAYLIGHT
TZNAME:CEST
TZOFFSETFROM:+0100
TZOFFSETTO:+0200
DTSTART:20240331T010000
END:DAYLIGHT
BEGIN:STANDARD
TZNAME:CET
TZOFFSETFROM:+0200
TZOFFSETTO:+0100
DTSTART:20231029T010000
END:STANDARD
END:VTIMEZONE
BEGIN:VEVENT
UID:670cd507-2578-4dd7-aadb-d4f359a24311
DTSTART;TZID=Europe/Zurich:20240708T000000
SEQUENCE:0
TRANSP:TRANSPARENT
DTEND;TZID=Europe/Zurich:20240710T235900
URL:https://www.infoclio.ch/it/historical-network-research-hnr2024
LOCATION:Université de Lausanne\,Lausanne
SUMMARY:Historical Network Research (HNR2024)
CLASS:PUBLIC
DTSTAMP:20260421T083026Z
END:VEVENT
END:VCALENDAR