BEGIN:VCALENDAR
VERSION:2.0
PRODID:-//Drupal iCal API//EN
X-WR-CALNAME:infoclio.ch - The Swiss portal for the historical sciences: Ca
 lendar
X-WR-TIMEZONE:Europe/Zurich
BEGIN:VTIMEZONE
TZID:Europe/Zurich
X-LIC-LOCATION:Europe/Zurich
BEGIN:DAYLIGHT
TZNAME:CEST
TZOFFSETFROM:+0100
TZOFFSETTO:+0200
DTSTART:20230326T010000
END:DAYLIGHT
BEGIN:STANDARD
TZNAME:CET
TZOFFSETFROM:+0200
TZOFFSETTO:+0100
DTSTART:20221030T010000
END:STANDARD
END:VTIMEZONE
BEGIN:VEVENT
UID:9538e566-eff7-491f-af2f-86db3178d703
DTSTART;TZID=Europe/Zurich:20230504T191540
SEQUENCE:0
TRANSP:TRANSPARENT
DTEND;TZID=Europe/Zurich:20230504T204540
URL:https://www.infoclio.ch/it/lea-haller-schweizer-kolonialhandel-und-die-
 basler-missionshandelsgesellschaft
LOCATION:online\,
SUMMARY:Lea Haller: Schweizer Kolonialhandel und die Basler\nMissionshandel
 sgesellschaft
CLASS:PUBLIC
DTSTAMP:20260419T143420Z
END:VEVENT
END:VCALENDAR