BEGIN:VCALENDAR
VERSION:2.0
PRODID:-//Drupal iCal API//EN
X-WR-CALNAME:infoclio.ch - The Swiss portal for the historical sciences: Ca
 lendar
X-WR-TIMEZONE:Europe/Zurich
BEGIN:VTIMEZONE
TZID:Europe/Zurich
X-LIC-LOCATION:Europe/Zurich
BEGIN:DAYLIGHT
TZNAME:CEST
TZOFFSETFROM:+0100
TZOFFSETTO:+0200
DTSTART:20220327T010000
END:DAYLIGHT
BEGIN:STANDARD
TZNAME:CET
TZOFFSETFROM:+0200
TZOFFSETTO:+0100
DTSTART:20211031T010000
END:STANDARD
BEGIN:STANDARD
TZNAME:CET
TZOFFSETFROM:+0200
TZOFFSETTO:+0100
DTSTART:20221030T010000
END:STANDARD
END:VTIMEZONE
BEGIN:VEVENT
UID:ee8065d8-9924-428b-812e-395210c04c6f
DTSTART;TZID=Europe/Zurich:20220926T141510
SEQUENCE:0
TRANSP:TRANSPARENT
DTEND;TZID=Europe/Zurich:20221212T141510
URL:https://www.infoclio.ch/it/uris-ringvorlesung-hs-2022-geschichte-der-uk
 raine
LOCATION:Online-Präsenz (Zoom)\,
SUMMARY:URIS-Ringvorlesung HS 2022: Geschichte der Ukraine
CLASS:PUBLIC
DTSTAMP:20260423T014844Z
END:VEVENT
END:VCALENDAR