BEGIN:VCALENDAR
VERSION:2.0
PRODID:-//Drupal iCal API//EN
X-WR-CALNAME:infoclio.ch - The Swiss portal for the historical sciences: Ca
 lendar
X-WR-TIMEZONE:Europe/Zurich
BEGIN:VTIMEZONE
TZID:Europe/Zurich
X-LIC-LOCATION:Europe/Zurich
BEGIN:DAYLIGHT
TZNAME:CEST
TZOFFSETFROM:+0100
TZOFFSETTO:+0200
DTSTART:20220327T010000
END:DAYLIGHT
BEGIN:STANDARD
TZNAME:CET
TZOFFSETFROM:+0200
TZOFFSETTO:+0100
DTSTART:20211031T010000
END:STANDARD
END:VTIMEZONE
BEGIN:VEVENT
UID:9b1c8808-89be-4bba-8d8e-d852de432d2f
DTSTART;TZID=Europe/Zurich:20220708T020000
SEQUENCE:0
TRANSP:TRANSPARENT
DTEND;TZID=Europe/Zurich:20220709T020000
URL:https://www.infoclio.ch/it/century-gender-equality-struggles-turkey-fem
 inist-history-revisited
LOCATION:ETH Zürich\,Zürich
SUMMARY:A Century of Gender Equality Struggles in Turkey: Feminist History\
 nRevisited
CLASS:PUBLIC
DTSTAMP:20260422T005509Z
END:VEVENT
END:VCALENDAR