BEGIN:VCALENDAR
VERSION:2.0
PRODID:-//Drupal iCal API//EN
X-WR-CALNAME:infoclio.ch - The Swiss portal for the historical sciences: Ca
 lendar
X-WR-TIMEZONE:Europe/Zurich
BEGIN:VTIMEZONE
TZID:Europe/Zurich
X-LIC-LOCATION:Europe/Zurich
BEGIN:DAYLIGHT
TZNAME:CEST
TZOFFSETFROM:+0100
TZOFFSETTO:+0200
DTSTART:20210328T010000
END:DAYLIGHT
BEGIN:STANDARD
TZNAME:CET
TZOFFSETFROM:+0200
TZOFFSETTO:+0100
DTSTART:20201025T010000
END:STANDARD
END:VTIMEZONE
BEGIN:VEVENT
UID:1a322857-cd7e-4ecc-b3e5-0a31364e89a4
DTSTART;TZID=Europe/Zurich:20211019T183010
SEQUENCE:0
TRANSP:TRANSPARENT
DTEND;TZID=Europe/Zurich:20211019T203010
URL:https://www.infoclio.ch/it/buchvernissage-anna-catharina-bischoff-die-m
 umie-aus-der-barf%C3%BCsserkirche
LOCATION:Naturhistorisches Museum Basel\, Aula\,Basel
SUMMARY:Buchvernissage: Anna Catharina Bischoff. Die Mumie aus der\nBarfüs
 serkirche
CLASS:PUBLIC
DTSTAMP:20260421T143051Z
END:VEVENT
END:VCALENDAR