BEGIN:VCALENDAR
VERSION:2.0
PRODID:-//Drupal iCal API//EN
X-WR-CALNAME:infoclio.ch - The Swiss portal for the historical sciences: Ca
 lendar
X-WR-TIMEZONE:Europe/Zurich
BEGIN:VTIMEZONE
TZID:Europe/Zurich
X-LIC-LOCATION:Europe/Zurich
BEGIN:DAYLIGHT
TZNAME:CEST
TZOFFSETFROM:+0100
TZOFFSETTO:+0200
DTSTART:20210328T010000
END:DAYLIGHT
BEGIN:STANDARD
TZNAME:CET
TZOFFSETFROM:+0200
TZOFFSETTO:+0100
DTSTART:20201025T010000
END:STANDARD
END:VTIMEZONE
BEGIN:VEVENT
UID:dfce31e7-517d-40b5-a9a0-998000b05682
DTSTART;TZID=Europe/Zurich:20210928T183010
SEQUENCE:0
TRANSP:TRANSPARENT
DTEND;TZID=Europe/Zurich:20210928T210010
URL:https://www.infoclio.ch/it/umbr%C3%BCche-der-hs-geschichte-und-ihre-akt
 eurinnen
LOCATION:Universität Zürich Hauptgebäude KO\, Raum: B 10\,Zürich
SUMMARY:Umbrüche in der HS-Geschichte und ihre Akteur*innen
CLASS:PUBLIC
DTSTAMP:20260422T101928Z
END:VEVENT
END:VCALENDAR