BEGIN:VCALENDAR
VERSION:2.0
PRODID:-//Drupal iCal API//EN
X-WR-CALNAME:infoclio.ch - The Swiss portal for the historical sciences: Ca
 lendar
X-WR-TIMEZONE:Europe/Zurich
BEGIN:VTIMEZONE
TZID:Europe/Zurich
X-LIC-LOCATION:Europe/Zurich
BEGIN:DAYLIGHT
TZNAME:CEST
TZOFFSETFROM:+0100
TZOFFSETTO:+0200
DTSTART:20200329T010000
END:DAYLIGHT
BEGIN:STANDARD
TZNAME:CET
TZOFFSETFROM:+0200
TZOFFSETTO:+0100
DTSTART:20201025T010000
END:STANDARD
END:VTIMEZONE
BEGIN:VEVENT
UID:09b85204-f43f-458b-bdf9-66b0b4d40c43
DTSTART;TZID=Europe/Zurich:20201211T173035
SEQUENCE:0
TRANSP:TRANSPARENT
DTEND;TZID=Europe/Zurich:20201212T101535
URL:https://www.infoclio.ch/it/begehrte-g%C3%BCter-schwyzer-exportschlager-
 im-laufe-der-zeit
LOCATION:Bundesbriefmuseum\,Schwyz
SUMMARY:Begehrte Güter. Schwyzer Exportschlager im Laufe der Zeit
CLASS:PUBLIC
DTSTAMP:20260420T143811Z
END:VEVENT
END:VCALENDAR