BEGIN:VCALENDAR
VERSION:2.0
PRODID:-//Drupal iCal API//EN
X-WR-CALNAME:infoclio.ch - The Swiss portal for the historical sciences: Ca
 lendar
X-WR-TIMEZONE:Europe/Zurich
BEGIN:VTIMEZONE
TZID:Europe/Zurich
X-LIC-LOCATION:Europe/Zurich
BEGIN:DAYLIGHT
TZNAME:CEST
TZOFFSETFROM:+0100
TZOFFSETTO:+0200
DTSTART:20180325T010000
END:DAYLIGHT
BEGIN:STANDARD
TZNAME:CET
TZOFFSETFROM:+0200
TZOFFSETTO:+0100
DTSTART:20181028T010000
END:STANDARD
END:VTIMEZONE
BEGIN:VEVENT
UID:ec7a815d-5a5e-47cc-bd69-974a03c37895
DTSTART;TZID=Europe/Zurich:20190221T180050
SEQUENCE:0
TRANSP:TRANSPARENT
DTEND;TZID=Europe/Zurich:20190221T190050
URL:https://www.infoclio.ch/it/jouer-lanimal-jouer-avec-lanimal-dans-le-th%
 C3%A9%C3%A2tre-m%C3%A9di%C3%A9val
LOCATION:Musée de Zoologie\, auditoire XIX\,Lausanne
SUMMARY:Jouer lanimal\, jouer avec lanimal dans le théâtre médiéval
CLASS:PUBLIC
DTSTAMP:20260420T074133Z
END:VEVENT
END:VCALENDAR