BEGIN:VCALENDAR
VERSION:2.0
PRODID:-//Drupal iCal API//EN
X-WR-CALNAME:infoclio.ch - The Swiss portal for the historical sciences: Ca
 lendar
X-WR-TIMEZONE:Europe/Zurich
BEGIN:VTIMEZONE
TZID:Europe/Zurich
X-LIC-LOCATION:Europe/Zurich
BEGIN:DAYLIGHT
TZNAME:CEST
TZOFFSETFROM:+0100
TZOFFSETTO:+0200
DTSTART:20180325T010000
END:DAYLIGHT
BEGIN:STANDARD
TZNAME:CET
TZOFFSETFROM:+0200
TZOFFSETTO:+0100
DTSTART:20181028T010000
END:STANDARD
END:VTIMEZONE
BEGIN:VEVENT
UID:5cc9c102-f962-41fc-9ae7-53296fa9cf98
DTSTART;TZID=Europe/Zurich:20190201T144045
SEQUENCE:0
TRANSP:TRANSPARENT
DTEND;TZID=Europe/Zurich:20190201T144045
URL:https://www.infoclio.ch/it/forest-clearing-and-land-reclamation-between
 -ownership-rights-and-resource-management-10th-%E2%80%93-20th
LOCATION:EHESS\,Paris
SUMMARY:Forest clearing and land reclamation: between ownership rights and\
 nresource management\, 10th – 20th century
CLASS:PUBLIC
DTSTAMP:20260423T225701Z
END:VEVENT
END:VCALENDAR