BEGIN:VCALENDAR
VERSION:2.0
PRODID:-//Drupal iCal API//EN
X-WR-CALNAME:infoclio.ch - The Swiss portal for the historical sciences: Ca
 lendar
X-WR-TIMEZONE:Europe/Zurich
BEGIN:VTIMEZONE
TZID:Europe/Zurich
X-LIC-LOCATION:Europe/Zurich
BEGIN:DAYLIGHT
TZNAME:CEST
TZOFFSETFROM:+0100
TZOFFSETTO:+0200
DTSTART:20180325T010000
END:DAYLIGHT
BEGIN:STANDARD
TZNAME:CET
TZOFFSETFROM:+0200
TZOFFSETTO:+0100
DTSTART:20171029T010000
END:STANDARD
END:VTIMEZONE
BEGIN:VEVENT
UID:b7d3e1a2-0297-419e-947e-59dc38f395c9
DTSTART;TZID=Europe/Zurich:20180930T020000
SEQUENCE:0
TRANSP:TRANSPARENT
DTEND;TZID=Europe/Zurich:20180930T020000
URL:https://www.infoclio.ch/it/cfp-les-r%C3%A9parations-de-la-pr%C3%A9histo
 ire-%C3%A0-nos-jours-cultures-techniques-et-savoir-faire
LOCATION:Paris (à préciser)\,Paris
SUMMARY:CfP: Les réparations\, de la préhistoire à nos jours: cultures\n
 techniques et savoir-faire
CLASS:PUBLIC
DTSTAMP:20260421T123856Z
END:VEVENT
END:VCALENDAR