BEGIN:VCALENDAR
VERSION:2.0
PRODID:-//Drupal iCal API//EN
X-WR-CALNAME:infoclio.ch - The Swiss portal for the historical sciences: Ca
 lendar
X-WR-TIMEZONE:Europe/Zurich
BEGIN:VTIMEZONE
TZID:Europe/Zurich
X-LIC-LOCATION:Europe/Zurich
BEGIN:DAYLIGHT
TZNAME:CEST
TZOFFSETFROM:+0100
TZOFFSETTO:+0200
DTSTART:20160327T010000
END:DAYLIGHT
BEGIN:STANDARD
TZNAME:CET
TZOFFSETFROM:+0200
TZOFFSETTO:+0100
DTSTART:20161030T010000
END:STANDARD
END:VTIMEZONE
BEGIN:VEVENT
UID:5389ba37-5636-441c-a1b0-7264cfba176a
DTSTART;TZID=Europe/Zurich:20161220T010000
SEQUENCE:0
TRANSP:TRANSPARENT
DTEND;TZID=Europe/Zurich:20161220T010000
URL:https://www.infoclio.ch/it/appel-%C3%A0-communications-%E2%80%9Cles-nou
 veaux-enjeux-de-la-conservation-du-patrimoine-documentaire-%C2%BB
LOCATION:Médiathèque Valais\,Sierre
SUMMARY:Appel à communications: “Les nouveaux enjeux de la conservation 
 du\npatrimoine documentaire »
CLASS:PUBLIC
DTSTAMP:20260420T152259Z
END:VEVENT
END:VCALENDAR