BEGIN:VCALENDAR
VERSION:2.0
PRODID:-//Drupal iCal API//EN
X-WR-CALNAME:infoclio.ch - The Swiss portal for the historical sciences: Ca
 lendar
X-WR-TIMEZONE:Europe/Zurich
BEGIN:VTIMEZONE
TZID:Europe/Zurich
X-LIC-LOCATION:Europe/Zurich
BEGIN:DAYLIGHT
TZNAME:CEST
TZOFFSETFROM:+0100
TZOFFSETTO:+0200
DTSTART:20150329T010000
END:DAYLIGHT
BEGIN:STANDARD
TZNAME:CET
TZOFFSETFROM:+0200
TZOFFSETTO:+0100
DTSTART:20141026T010000
END:STANDARD
END:VTIMEZONE
BEGIN:VEVENT
UID:3879d7bd-1c54-4cbd-8518-9782e9af6344
DTSTART;TZID=Europe/Zurich:20150507T020000
SEQUENCE:0
TRANSP:TRANSPARENT
DTEND;TZID=Europe/Zurich:20150522T020000
URL:https://www.infoclio.ch/it/robert-darnton-livres-et-biblioth%C3%A8ques-
 quel-avenir-num%C3%A9rique
LOCATION:Uni. Bastion\, Grande Aula\,Genève
SUMMARY:Robert Darnton: Livres et bibliothèques: quel avenir numérique?
CLASS:PUBLIC
DTSTAMP:20260422T205212Z
END:VEVENT
END:VCALENDAR