BEGIN:VCALENDAR
VERSION:2.0
PRODID:-//Drupal iCal API//EN
X-WR-CALNAME:infoclio.ch - The Swiss portal for the historical sciences: Ca
 lendar
X-WR-TIMEZONE:Europe/Zurich
BEGIN:VTIMEZONE
TZID:Europe/Zurich
X-LIC-LOCATION:Europe/Zurich
BEGIN:DAYLIGHT
TZNAME:CEST
TZOFFSETFROM:+0100
TZOFFSETTO:+0200
DTSTART:20260329T010000
END:DAYLIGHT
BEGIN:STANDARD
TZNAME:CET
TZOFFSETFROM:+0200
TZOFFSETTO:+0100
DTSTART:20251026T010000
END:STANDARD
END:VTIMEZONE
BEGIN:VEVENT
UID:7e19b499-5c42-4800-9857-ab9e1bb3844e
DTSTART;TZID=Europe/Zurich:20260630T000000
SEQUENCE:0
TRANSP:TRANSPARENT
DTEND;TZID=Europe/Zurich:20260630T235959
URL:https://www.infoclio.ch/fr/cfp-switzerland-incubator-political-ideas-fu
 ture-central-and-eastern-europe-between-1848-and-1918
LOCATION:\,
SUMMARY:CfP: Switzerland as an Incubator of Political Ideas for the Future 
 of\nCentral and Eastern Europe Between 1848 and 1918
CLASS:PUBLIC
DTSTAMP:20260425T025947Z
END:VEVENT
END:VCALENDAR