BEGIN:VCALENDAR
VERSION:2.0
PRODID:-//Drupal iCal API//EN
X-WR-CALNAME:infoclio.ch - The Swiss portal for the historical sciences: Ca
 lendar
X-WR-TIMEZONE:Europe/Zurich
BEGIN:VTIMEZONE
TZID:Europe/Zurich
X-LIC-LOCATION:Europe/Zurich
BEGIN:DAYLIGHT
TZNAME:CEST
TZOFFSETFROM:+0100
TZOFFSETTO:+0200
DTSTART:20260329T010000
END:DAYLIGHT
BEGIN:STANDARD
TZNAME:CET
TZOFFSETFROM:+0200
TZOFFSETTO:+0100
DTSTART:20251026T010000
END:STANDARD
END:VTIMEZONE
BEGIN:VEVENT
UID:6970784d-19a6-4bec-94df-fd70c643d2a8
DTSTART;TZID=Europe/Zurich:20260513T193000
SEQUENCE:0
TRANSP:TRANSPARENT
DTEND;TZID=Europe/Zurich:20260513T200000
URL:https://www.infoclio.ch/fr/25-jubil%C3%A4um-des-interdisziplin%C3%A4ren
 -zentrums-f%C3%BCr-geschlechterforschung-izfg
LOCATION:CAFE KAIRO \,Bern
SUMMARY:25. Jubiläum des Interdisziplinären Zentrums für\nGeschlechterfo
 rschung (IZFG)
CLASS:PUBLIC
DTSTAMP:20260423T151143Z
END:VEVENT
END:VCALENDAR