BEGIN:VCALENDAR
VERSION:2.0
PRODID:-//Drupal iCal API//EN
X-WR-CALNAME:infoclio.ch - The Swiss portal for the historical sciences: Ca
 lendar
X-WR-TIMEZONE:Europe/Zurich
BEGIN:VTIMEZONE
TZID:Europe/Zurich
X-LIC-LOCATION:Europe/Zurich
BEGIN:DAYLIGHT
TZNAME:CEST
TZOFFSETFROM:+0100
TZOFFSETTO:+0200
DTSTART:20260329T010000
END:DAYLIGHT
BEGIN:STANDARD
TZNAME:CET
TZOFFSETFROM:+0200
TZOFFSETTO:+0100
DTSTART:20251026T010000
END:STANDARD
END:VTIMEZONE
BEGIN:VEVENT
UID:2e824f61-b51a-478c-8bc4-9b9957be3663
DTSTART;TZID=Europe/Zurich:20260506T000000
SEQUENCE:0
TRANSP:TRANSPARENT
DTEND;TZID=Europe/Zurich:20260506T235959
URL:https://www.infoclio.ch/fr/woman-copper-earrings-fragments-history-powe
 r-southern-africa-c-1200%E2%80%93c-1800
LOCATION:Department of History\, Seminar Room 1\,Basel
SUMMARY:The woman with copper earrings: fragments of a history of power in\
 nsouthern Africa\, c. 1200–c. 1800
CLASS:PUBLIC
DTSTAMP:20260423T151035Z
END:VEVENT
END:VCALENDAR