BEGIN:VCALENDAR
VERSION:2.0
PRODID:-//Drupal iCal API//EN
X-WR-CALNAME:infoclio.ch - The Swiss portal for the historical sciences: Ca
 lendar
X-WR-TIMEZONE:Europe/Zurich
BEGIN:VTIMEZONE
TZID:Europe/Zurich
X-LIC-LOCATION:Europe/Zurich
BEGIN:DAYLIGHT
TZNAME:CEST
TZOFFSETFROM:+0100
TZOFFSETTO:+0200
DTSTART:20260329T010000
END:DAYLIGHT
BEGIN:STANDARD
TZNAME:CET
TZOFFSETFROM:+0200
TZOFFSETTO:+0100
DTSTART:20251026T010000
END:STANDARD
END:VTIMEZONE
BEGIN:VEVENT
UID:15e05ab3-4489-4a03-805b-cc499f870149
DTSTART;TZID=Europe/Zurich:20260423T180000
SEQUENCE:0
TRANSP:TRANSPARENT
DTEND;TZID=Europe/Zurich:20260423T180000
URL:https://www.infoclio.ch/fr/vernissage-du-livre-le-village-n%C3%A9olithi
 que-de-bienne-campus-3842-%C3%A0-3838-av-j-c
LOCATION:NMB Nouveau Musée Bienne\, Biel/Bienne
SUMMARY:Vernissage du livre: Le village néolithique de Bienne\, Campus (38
 42\nà 3838 av. J.-C.)
CLASS:PUBLIC
DTSTAMP:20260422T071727Z
END:VEVENT
END:VCALENDAR