BEGIN:VCALENDAR
VERSION:2.0
PRODID:-//Drupal iCal API//EN
X-WR-CALNAME:infoclio.ch - The Swiss portal for the historical sciences: Ca
 lendar
X-WR-TIMEZONE:Europe/Zurich
BEGIN:VTIMEZONE
TZID:Europe/Zurich
X-LIC-LOCATION:Europe/Zurich
BEGIN:DAYLIGHT
TZNAME:CEST
TZOFFSETFROM:+0100
TZOFFSETTO:+0200
DTSTART:20260329T010000
END:DAYLIGHT
BEGIN:STANDARD
TZNAME:CET
TZOFFSETFROM:+0200
TZOFFSETTO:+0100
DTSTART:20251026T010000
END:STANDARD
END:VTIMEZONE
BEGIN:VEVENT
UID:e6a4c94e-7920-4fb7-8155-4ce170e70922
DTSTART;TZID=Europe/Zurich:20260430T000000
SEQUENCE:0
TRANSP:TRANSPARENT
DTEND;TZID=Europe/Zurich:20260530T235959
URL:https://www.infoclio.ch/fr/des-augustins-%C3%A0-st-l%C3%A9onard-le-hock
 ey-sur-glace-%C3%A0-fribourg
LOCATION:L'Atelier\,Fribourg
SUMMARY:Des Augustins à St-Léonard. Le hockey sur glace à Fribourg
CLASS:PUBLIC
DTSTAMP:20260421T150543Z
END:VEVENT
END:VCALENDAR