BEGIN:VCALENDAR
VERSION:2.0
PRODID:-//Drupal iCal API//EN
X-WR-CALNAME:infoclio.ch - The Swiss portal for the historical sciences: Ca
 lendar
X-WR-TIMEZONE:Europe/Zurich
BEGIN:VTIMEZONE
TZID:Europe/Zurich
X-LIC-LOCATION:Europe/Zurich
BEGIN:DAYLIGHT
TZNAME:CEST
TZOFFSETFROM:+0100
TZOFFSETTO:+0200
DTSTART:20260329T010000
END:DAYLIGHT
BEGIN:STANDARD
TZNAME:CET
TZOFFSETFROM:+0200
TZOFFSETTO:+0100
DTSTART:20251026T010000
END:STANDARD
END:VTIMEZONE
BEGIN:VEVENT
UID:83149409-0632-4040-b28c-dbf03c167fbd
DTSTART;TZID=Europe/Zurich:20260520T190000
SEQUENCE:0
TRANSP:TRANSPARENT
DTEND;TZID=Europe/Zurich:20260520T190000
URL:https://www.infoclio.ch/fr/buchvernissage-migrationsland-schweiz-%E2%80
 %93-ein-abend-f%C3%BCr-die-migrationsgesellschaft-der-zukunft
LOCATION:Zentralwäscherei \,Zürich
SUMMARY:Buchvernissage: Migrationsland Schweiz – ein Abend für die\nMigr
 ationsgesellschaft der Zukunft
CLASS:PUBLIC
DTSTAMP:20260421T122611Z
END:VEVENT
END:VCALENDAR