BEGIN:VCALENDAR
VERSION:2.0
PRODID:-//Drupal iCal API//EN
X-WR-CALNAME:infoclio.ch - The Swiss portal for the historical sciences: Ca
 lendar
X-WR-TIMEZONE:Europe/Zurich
BEGIN:VTIMEZONE
TZID:Europe/Zurich
X-LIC-LOCATION:Europe/Zurich
BEGIN:DAYLIGHT
TZNAME:CEST
TZOFFSETFROM:+0100
TZOFFSETTO:+0200
DTSTART:20260329T010000
END:DAYLIGHT
BEGIN:STANDARD
TZNAME:CET
TZOFFSETFROM:+0200
TZOFFSETTO:+0100
DTSTART:20251026T010000
END:STANDARD
END:VTIMEZONE
BEGIN:VEVENT
UID:cced1081-268b-400e-b3cf-2bc05fe4ec72
DTSTART;TZID=Europe/Zurich:20260510T140000
SEQUENCE:0
TRANSP:TRANSPARENT
DTEND;TZID=Europe/Zurich:20260510T170000
URL:https://www.infoclio.ch/fr/biblioth%C3%A8que-vivante-gen%C3%A8ve-postco
 loniale-les-ambivalences-dune-ville-suisse-et-internationale
LOCATION:Château de Prangins \,Prangins
SUMMARY:Bibliothèque vivante: Genève (post)coloniale\, les ambivalences d
 une\nville suisse et internationale
CLASS:PUBLIC
DTSTAMP:20260420T123602Z
END:VEVENT
END:VCALENDAR