BEGIN:VCALENDAR
VERSION:2.0
PRODID:-//Drupal iCal API//EN
X-WR-CALNAME:infoclio.ch - The Swiss portal for the historical sciences: Ca
 lendar
X-WR-TIMEZONE:Europe/Zurich
BEGIN:VTIMEZONE
TZID:Europe/Zurich
X-LIC-LOCATION:Europe/Zurich
BEGIN:DAYLIGHT
TZNAME:CEST
TZOFFSETFROM:+0100
TZOFFSETTO:+0200
DTSTART:20260329T010000
END:DAYLIGHT
BEGIN:STANDARD
TZNAME:CET
TZOFFSETFROM:+0200
TZOFFSETTO:+0100
DTSTART:20251026T010000
END:STANDARD
END:VTIMEZONE
BEGIN:VEVENT
UID:5f205dc7-1b94-4e9e-a42a-837bd66edf34
DTSTART;TZID=Europe/Zurich:20260501T000000
SEQUENCE:0
TRANSP:TRANSPARENT
DTEND;TZID=Europe/Zurich:20260501T235959
URL:https://www.infoclio.ch/fr/cfp-zur%C3%BCck-remigrieren-zwischen-geschic
 hte-und-literatur
LOCATION:Universität Bern\,
SUMMARY:CfP: Zurück. Remigrieren zwischen Geschichte und Literatur
CLASS:PUBLIC
DTSTAMP:20260421T111315Z
END:VEVENT
END:VCALENDAR