BEGIN:VCALENDAR
VERSION:2.0
PRODID:-//Drupal iCal API//EN
X-WR-CALNAME:infoclio.ch - The Swiss portal for the historical sciences: Ca
 lendar
X-WR-TIMEZONE:Europe/Zurich
BEGIN:VTIMEZONE
TZID:Europe/Zurich
X-LIC-LOCATION:Europe/Zurich
BEGIN:DAYLIGHT
TZNAME:CEST
TZOFFSETFROM:+0100
TZOFFSETTO:+0200
DTSTART:20240331T010000
END:DAYLIGHT
BEGIN:STANDARD
TZNAME:CET
TZOFFSETFROM:+0200
TZOFFSETTO:+0100
DTSTART:20231029T010000
END:STANDARD
END:VTIMEZONE
BEGIN:VEVENT
UID:3eb47424-961b-4b71-abc2-7945f80bb80a
DTSTART;TZID=Europe/Zurich:20240924T100000
SEQUENCE:0
TRANSP:TRANSPARENT
DTEND;TZID=Europe/Zurich:20240924T120000
URL:https://www.infoclio.ch/fr/google-books-project-und-geschichtswissensch
 aften
LOCATION:Departement Geschicht\,
SUMMARY:Google Books Project und Geschichtswissenschaften
CLASS:PUBLIC
DTSTAMP:20260421T084235Z
END:VEVENT
END:VCALENDAR