BEGIN:VCALENDAR
VERSION:2.0
PRODID:-//Drupal iCal API//EN
X-WR-CALNAME:infoclio.ch - The Swiss portal for the historical sciences: Ca
 lendar
X-WR-TIMEZONE:Europe/Zurich
BEGIN:VTIMEZONE
TZID:Europe/Zurich
X-LIC-LOCATION:Europe/Zurich
BEGIN:DAYLIGHT
TZNAME:CEST
TZOFFSETFROM:+0100
TZOFFSETTO:+0200
DTSTART:20240331T010000
END:DAYLIGHT
BEGIN:STANDARD
TZNAME:CET
TZOFFSETFROM:+0200
TZOFFSETTO:+0100
DTSTART:20231029T010000
END:STANDARD
END:VTIMEZONE
BEGIN:VEVENT
UID:b6863236-5f91-4275-a92c-e4703d00ab79
DTSTART;TZID=Europe/Zurich:20240926T180000
SEQUENCE:0
TRANSP:TRANSPARENT
DTEND;TZID=Europe/Zurich:20240926T180000
URL:https://www.infoclio.ch/fr/enfance-menac%C3%A9e-enfance-prot%C3%A9g%C3%
 A9e-nouvelles-perspectives-historiques
LOCATION:Université de Lausanne\,Lausanne
SUMMARY:\"Enfance menacée\, enfance protégée\" : nouvelles perspectives\
 nhistoriques
CLASS:PUBLIC
DTSTAMP:20260421T082840Z
END:VEVENT
END:VCALENDAR