BEGIN:VCALENDAR
VERSION:2.0
PRODID:-//Drupal iCal API//EN
X-WR-CALNAME:infoclio.ch - The Swiss portal for the historical sciences: Ca
 lendar
X-WR-TIMEZONE:Europe/Zurich
BEGIN:VTIMEZONE
TZID:Europe/Zurich
X-LIC-LOCATION:Europe/Zurich
BEGIN:DAYLIGHT
TZNAME:CEST
TZOFFSETFROM:+0100
TZOFFSETTO:+0200
DTSTART:20240331T010000
END:DAYLIGHT
BEGIN:STANDARD
TZNAME:CET
TZOFFSETFROM:+0200
TZOFFSETTO:+0100
DTSTART:20231029T010000
END:STANDARD
END:VTIMEZONE
BEGIN:VEVENT
UID:8a34b6f0-50a5-4473-bbd8-5dbb8e7a572e
DTSTART;VALUE=DATE:20240930
SEQUENCE:0
TRANSP:TRANSPARENT
DTEND;VALUE=DATE:20241001
URL:https://www.infoclio.ch/de/call-papers-7-schweizerische-geschichtstage-
 unsichtbarkeit
LOCATION:\,
SUMMARY:Call for Papers: 7. Schweizerische Geschichtstage - (Un)sichtbarkei
 t
CLASS:PUBLIC
X-MICROSOFT-CDO-ALLDAYEVENT:TRUE
DTSTAMP:20260421T094945Z
END:VEVENT
END:VCALENDAR