BEGIN:VCALENDAR
VERSION:2.0
PRODID:-//Drupal iCal API//EN
X-WR-CALNAME:infoclio.ch - The Swiss portal for the historical sciences: Ca
 lendar
X-WR-TIMEZONE:Europe/Zurich
BEGIN:VTIMEZONE
TZID:Europe/Zurich
X-LIC-LOCATION:Europe/Zurich
BEGIN:DAYLIGHT
TZNAME:CEST
TZOFFSETFROM:+0100
TZOFFSETTO:+0200
DTSTART:20240331T010000
END:DAYLIGHT
BEGIN:STANDARD
TZNAME:CET
TZOFFSETFROM:+0200
TZOFFSETTO:+0100
DTSTART:20231029T010000
END:STANDARD
END:VTIMEZONE
BEGIN:VEVENT
UID:4db97f84-7e7b-4964-9d9a-6e0502f909a9
DTSTART;TZID=Europe/Zurich:20240531T180000
SEQUENCE:0
TRANSP:TRANSPARENT
DTEND;TZID=Europe/Zurich:20240531T191500
URL:https://www.infoclio.ch/fr/f%C3%BCrsorge-und-zwang-zwischen-expertenwis
 sen-und-betroffenheit
LOCATION:I de Fabrik\,Schwyz
SUMMARY:Fürsorge und Zwang: Zwischen Expertenwissen und Betroffenheit
CLASS:PUBLIC
DTSTAMP:20260421T101140Z
END:VEVENT
END:VCALENDAR