BEGIN:VCALENDAR
VERSION:2.0
PRODID:-//Drupal iCal API//EN
X-WR-CALNAME:infoclio.ch - The Swiss portal for the historical sciences: Ca
 lendar
X-WR-TIMEZONE:Europe/Zurich
BEGIN:VTIMEZONE
TZID:Europe/Zurich
X-LIC-LOCATION:Europe/Zurich
BEGIN:DAYLIGHT
TZNAME:CEST
TZOFFSETFROM:+0100
TZOFFSETTO:+0200
DTSTART:20240331T010000
END:DAYLIGHT
BEGIN:STANDARD
TZNAME:CET
TZOFFSETFROM:+0200
TZOFFSETTO:+0100
DTSTART:20231029T010000
END:STANDARD
END:VTIMEZONE
BEGIN:VEVENT
UID:2e2eb8ae-e0ab-4f14-b94a-a98d50d8dedc
DTSTART;VALUE=DATE:20240701
SEQUENCE:0
TRANSP:TRANSPARENT
DTEND;VALUE=DATE:20240702
URL:https://www.infoclio.ch/fr/cfp-le-maroc-et-le-monde-personnes-id%C3%A9e
 s-et-objets-en-circulation-depuis-et-vers-le-maroc
LOCATION:\,
SUMMARY:Cfp: Le Maroc et le monde : personnes\, idées et objets en circula
 tion\ndepuis et vers le Maroc contemporain (XIXe-XXIe siècles)
CLASS:PUBLIC
X-MICROSOFT-CDO-ALLDAYEVENT:TRUE
DTSTAMP:20260421T082921Z
END:VEVENT
END:VCALENDAR