BEGIN:VCALENDAR
VERSION:2.0
PRODID:-//Drupal iCal API//EN
X-WR-CALNAME:infoclio.ch - The Swiss portal for the historical sciences: Ca
 lendar
X-WR-TIMEZONE:Europe/Zurich
BEGIN:VTIMEZONE
TZID:Europe/Zurich
X-LIC-LOCATION:Europe/Zurich
BEGIN:DAYLIGHT
TZNAME:CEST
TZOFFSETFROM:+0100
TZOFFSETTO:+0200
DTSTART:20240331T010000
END:DAYLIGHT
BEGIN:STANDARD
TZNAME:CET
TZOFFSETFROM:+0200
TZOFFSETTO:+0100
DTSTART:20231029T010000
END:STANDARD
END:VTIMEZONE
BEGIN:VEVENT
UID:431c5bed-22eb-436b-96d8-1cddae8b5100
DTSTART;TZID=Europe/Zurich:20240425T183000
SEQUENCE:0
TRANSP:TRANSPARENT
DTEND;TZID=Europe/Zurich:20240425T200000
URL:https://www.infoclio.ch/fr/ancient-ceramics-armenia-based-materials-arc
 haeological-collection-museum-history-yerevan-state
LOCATION:Collection des moulages\,Genève
SUMMARY:Ancient ceramics of Armenia based on the materials of the\narchaeol
 ogical collection of the Museum of the History of the Yerevan\nState Unive
 rsity
CLASS:PUBLIC
DTSTAMP:20260422T014617Z
END:VEVENT
END:VCALENDAR