BEGIN:VCALENDAR
VERSION:2.0
PRODID:-//Drupal iCal API//EN
X-WR-CALNAME:infoclio.ch - The Swiss portal for the historical sciences: Ca
 lendar
X-WR-TIMEZONE:Europe/Zurich
BEGIN:VTIMEZONE
TZID:Europe/Zurich
X-LIC-LOCATION:Europe/Zurich
BEGIN:DAYLIGHT
TZNAME:CEST
TZOFFSETFROM:+0100
TZOFFSETTO:+0200
DTSTART:20240331T010000
END:DAYLIGHT
BEGIN:STANDARD
TZNAME:CET
TZOFFSETFROM:+0200
TZOFFSETTO:+0100
DTSTART:20231029T010000
END:STANDARD
END:VTIMEZONE
BEGIN:VEVENT
UID:139c0ed0-0552-48f3-baa6-de3f019a0983
DTSTART;TZID=Europe/Zurich:20240523T000000
SEQUENCE:0
TRANSP:TRANSPARENT
DTEND;TZID=Europe/Zurich:20240524T235900
URL:https://www.infoclio.ch/fr/finance-and-its-environments-new-approches-c
 apital
LOCATION:\,
SUMMARY:Finance and its Environments: New Approches to Capital 
CLASS:PUBLIC
DTSTAMP:20260421T105049Z
END:VEVENT
END:VCALENDAR