BEGIN:VCALENDAR
VERSION:2.0
PRODID:-//Drupal iCal API//EN
X-WR-CALNAME:infoclio.ch - The Swiss portal for the historical sciences: Ca
 lendar
X-WR-TIMEZONE:Europe/Zurich
BEGIN:VTIMEZONE
TZID:Europe/Zurich
X-LIC-LOCATION:Europe/Zurich
BEGIN:DAYLIGHT
TZNAME:CEST
TZOFFSETFROM:+0100
TZOFFSETTO:+0200
DTSTART:20230326T010000
END:DAYLIGHT
BEGIN:STANDARD
TZNAME:CET
TZOFFSETFROM:+0200
TZOFFSETTO:+0100
DTSTART:20231029T010000
END:STANDARD
END:VTIMEZONE
BEGIN:VEVENT
UID:eb541764-82ba-4524-ac49-0206a01d2219
DTSTART;TZID=Europe/Zurich:20231102T000000
SEQUENCE:0
TRANSP:TRANSPARENT
DTEND;TZID=Europe/Zurich:20231103T235900
URL:https://www.infoclio.ch/fr/introduction-au-sound-studies-introduction-s
 ound-studies
LOCATION:Université de Genève\,
SUMMARY:Introduction au Sound Studies / Introduction to Sound Studies
CLASS:PUBLIC
DTSTAMP:20260422T114511Z
END:VEVENT
BEGIN:VEVENT
UID:eb541764-82ba-4524-ac49-0206a01d2219
DTSTART;VALUE=DATE:20231102
SEQUENCE:0
TRANSP:TRANSPARENT
DTEND;VALUE=DATE:20231104
SUMMARY:Introduction au Sound Studies / Introduction to Sound Studies
CLASS:PUBLIC
X-MICROSOFT-CDO-ALLDAYEVENT:TRUE
DTSTAMP:20260422T114511Z
END:VEVENT
END:VCALENDAR