BEGIN:VCALENDAR
VERSION:2.0
PRODID:-//Drupal iCal API//EN
X-WR-CALNAME:infoclio.ch - The Swiss portal for the historical sciences: Ca
 lendar
X-WR-TIMEZONE:Europe/Zurich
BEGIN:VTIMEZONE
TZID:Europe/Zurich
X-LIC-LOCATION:Europe/Zurich
BEGIN:DAYLIGHT
TZNAME:CEST
TZOFFSETFROM:+0100
TZOFFSETTO:+0200
DTSTART:20230326T010000
END:DAYLIGHT
BEGIN:STANDARD
TZNAME:CET
TZOFFSETFROM:+0200
TZOFFSETTO:+0100
DTSTART:20221030T010000
END:STANDARD
END:VTIMEZONE
BEGIN:VEVENT
UID:f5eac4c3-dc98-486e-a878-eee391462d10
DTSTART;TZID=Europe/Zurich:20231012T181500
SEQUENCE:0
TRANSP:TRANSPARENT
DTEND;TZID=Europe/Zurich:20231012T200000
URL:https://www.infoclio.ch/fr/der-wald-im-l%C3%A4ndlichen-haushalt-eine-ko
 llektivressource-der-longue-dur%C3%A9e
LOCATION:Universität Basel\, Kollegienhaus\,Basel
SUMMARY:Der Wald im ländlichen Haushalt. Eine Kollektivressource in der\nL
 ongue durée
CLASS:PUBLIC
DTSTAMP:20260422T115647Z
END:VEVENT
END:VCALENDAR