BEGIN:VCALENDAR
VERSION:2.0
PRODID:-//Drupal iCal API//EN
X-WR-CALNAME:infoclio.ch - The Swiss portal for the historical sciences: Ca
 lendar
X-WR-TIMEZONE:Europe/Zurich
BEGIN:VTIMEZONE
TZID:Europe/Zurich
X-LIC-LOCATION:Europe/Zurich
BEGIN:DAYLIGHT
TZNAME:CEST
TZOFFSETFROM:+0100
TZOFFSETTO:+0200
DTSTART:20220327T010000
END:DAYLIGHT
BEGIN:STANDARD
TZNAME:CET
TZOFFSETFROM:+0200
TZOFFSETTO:+0100
DTSTART:20221030T010000
END:STANDARD
END:VTIMEZONE
BEGIN:VEVENT
UID:314e705a-e44b-49f8-9109-a6f8d86c4519
DTSTART;TZID=Europe/Zurich:20221130T173040
SEQUENCE:0
TRANSP:TRANSPARENT
DTEND;TZID=Europe/Zurich:20221130T190040
URL:https://www.infoclio.ch/fr/crimean-war-within-context-eastern-question-
 and-migrations-russia-ottoman-empire-19th-century
LOCATION:University of Neuchâtel\,Neuchâtel
SUMMARY:The Crimean War Within the Context of the Eastern Question and\nMig
 rations from Russia to the Ottoman Empire in the 19th Century
CLASS:PUBLIC
DTSTAMP:20260421T103012Z
END:VEVENT
END:VCALENDAR