BEGIN:VCALENDAR
VERSION:2.0
PRODID:-//Drupal iCal API//EN
X-WR-CALNAME:infoclio.ch - The Swiss portal for the historical sciences: Ca
 lendar
X-WR-TIMEZONE:Europe/Zurich
BEGIN:VTIMEZONE
TZID:Europe/Zurich
X-LIC-LOCATION:Europe/Zurich
BEGIN:DAYLIGHT
TZNAME:CEST
TZOFFSETFROM:+0100
TZOFFSETTO:+0200
DTSTART:20220327T010000
END:DAYLIGHT
BEGIN:STANDARD
TZNAME:CET
TZOFFSETFROM:+0200
TZOFFSETTO:+0100
DTSTART:20211031T010000
END:STANDARD
END:VTIMEZONE
BEGIN:VEVENT
UID:40b18eb6-3d1d-4a77-b4ab-009709f8d2bd
DTSTART;TZID=Europe/Zurich:20220701T103055
SEQUENCE:0
TRANSP:TRANSPARENT
DTEND;TZID=Europe/Zurich:20220701T103055
URL:https://www.infoclio.ch/fr/cfp-comptabilit%C3%A9-et-profits-d%E2%80%99e
 ntreprise-mat%C3%A9riels-et-m%C3%A9thodes-pour-une-histoire-du-capitalisme
LOCATION:\,
SUMMARY:CfP: Comptabilité et profits d’entreprise : matériels et métho
 des\npour une histoire du capitalisme
CLASS:PUBLIC
DTSTAMP:20260420T083424Z
END:VEVENT
END:VCALENDAR