BEGIN:VCALENDAR
VERSION:2.0
PRODID:-//Drupal iCal API//EN
X-WR-CALNAME:infoclio.ch - The Swiss portal for the historical sciences: Ca
 lendar
X-WR-TIMEZONE:Europe/Zurich
BEGIN:VTIMEZONE
TZID:Europe/Zurich
X-LIC-LOCATION:Europe/Zurich
BEGIN:DAYLIGHT
TZNAME:CEST
TZOFFSETFROM:+0100
TZOFFSETTO:+0200
DTSTART:20210328T010000
END:DAYLIGHT
BEGIN:STANDARD
TZNAME:CET
TZOFFSETFROM:+0200
TZOFFSETTO:+0100
DTSTART:20211031T010000
END:STANDARD
END:VTIMEZONE
BEGIN:VEVENT
UID:cd712669-4ad9-4fdf-9252-bfe5a05e5173
DTSTART;TZID=Europe/Zurich:20220131T010000
SEQUENCE:0
TRANSP:TRANSPARENT
DTEND;TZID=Europe/Zurich:20220131T010000
URL:https://www.infoclio.ch/en/cfp-%EF%BB%BFregimes-inequality-%E2%80%93-pa
 st-and-present
LOCATION:\,
SUMMARY:CfP: ﻿Regimes of Inequality – Past and Present
CLASS:PUBLIC
DTSTAMP:20260421T231938Z
END:VEVENT
END:VCALENDAR