BEGIN:VCALENDAR
VERSION:2.0
PRODID:-//Drupal iCal API//EN
X-WR-CALNAME:infoclio.ch - The Swiss portal for the historical sciences: Ca
 lendar
X-WR-TIMEZONE:Europe/Zurich
BEGIN:VTIMEZONE
TZID:Europe/Zurich
X-LIC-LOCATION:Europe/Zurich
BEGIN:DAYLIGHT
TZNAME:CEST
TZOFFSETFROM:+0100
TZOFFSETTO:+0200
DTSTART:20210328T010000
END:DAYLIGHT
BEGIN:STANDARD
TZNAME:CET
TZOFFSETFROM:+0200
TZOFFSETTO:+0100
DTSTART:20201025T010000
END:STANDARD
END:VTIMEZONE
BEGIN:VEVENT
UID:94ef8fd9-2ec7-453c-810c-dadc97bea13d
DTSTART;TZID=Europe/Zurich:20211018T183035
SEQUENCE:0
TRANSP:TRANSPARENT
DTEND;TZID=Europe/Zurich:20211018T183035
URL:https://www.infoclio.ch/fr/prendre-la-rue-prendre-la-parole-des-barrica
 des-au-gilets-jaunes-1588-2018
LOCATION: UniBastions \,Genève
SUMMARY:Prendre la rue\, prendre la parole. Des barricades au Gilets jaunes
 \n(1588-2018)
CLASS:PUBLIC
DTSTAMP:20260420T203217Z
END:VEVENT
END:VCALENDAR