BEGIN:VCALENDAR
VERSION:2.0
PRODID:-//Drupal iCal API//EN
X-WR-CALNAME:infoclio.ch - The Swiss portal for the historical sciences: Ca
 lendar
X-WR-TIMEZONE:Europe/Zurich
BEGIN:VTIMEZONE
TZID:Europe/Zurich
X-LIC-LOCATION:Europe/Zurich
BEGIN:DAYLIGHT
TZNAME:CEST
TZOFFSETFROM:+0100
TZOFFSETTO:+0200
DTSTART:20200329T010000
END:DAYLIGHT
BEGIN:STANDARD
TZNAME:CET
TZOFFSETFROM:+0200
TZOFFSETTO:+0100
DTSTART:20191027T010000
END:STANDARD
END:VTIMEZONE
BEGIN:VEVENT
UID:666521fa-5d53-4251-a01d-1202fc296deb
DTSTART;TZID=Europe/Zurich:20201019T181550
SEQUENCE:0
TRANSP:TRANSPARENT
DTEND;TZID=Europe/Zurich:20201019T181550
URL:https://www.infoclio.ch/fr/ein-fall-der-grenze-oberleutnant-erwin-naef-
 und-die-fl%C3%BCchtlinge-im-tessin-1943-0
LOCATION:Historisches Museum Basel\,Basel
SUMMARY:Ein Fall an der Grenze. Oberleutnant Erwin Naef und die Flüchtling
 e\nim Tessin 1943
CLASS:PUBLIC
DTSTAMP:20260423T164823Z
END:VEVENT
END:VCALENDAR