BEGIN:VCALENDAR
VERSION:2.0
PRODID:-//Drupal iCal API//EN
X-WR-CALNAME:infoclio.ch - The Swiss portal for the historical sciences: Ca
 lendar
X-WR-TIMEZONE:Europe/Zurich
BEGIN:VTIMEZONE
TZID:Europe/Zurich
X-LIC-LOCATION:Europe/Zurich
BEGIN:DAYLIGHT
TZNAME:CEST
TZOFFSETFROM:+0100
TZOFFSETTO:+0200
DTSTART:20180325T010000
END:DAYLIGHT
BEGIN:DAYLIGHT
TZNAME:CEST
TZOFFSETFROM:+0100
TZOFFSETTO:+0200
DTSTART:20190331T010000
END:DAYLIGHT
BEGIN:STANDARD
TZNAME:CET
TZOFFSETFROM:+0200
TZOFFSETTO:+0100
DTSTART:20181028T010000
END:STANDARD
END:VTIMEZONE
BEGIN:VEVENT
UID:c5f8b395-21fa-4a1e-bf1b-2b46eeae363b
DTSTART;TZID=Europe/Zurich:20190327T121505
SEQUENCE:0
TRANSP:TRANSPARENT
DTEND;TZID=Europe/Zurich:20190522T131505
URL:https://www.infoclio.ch/fr/freiburger-forum-f%C3%BCr-zeitgeschichte-for
 um-fribourgeoise-pour-lhistoire-contemporaine-0
LOCATION:Universität Freiburg/Université de Fribourg\, Miséricorde\,Frib
 ourg
SUMMARY:Freiburger Forum für Zeitgeschichte / forum fribourgeoise pour\nlh
 istoire contemporaine
CLASS:PUBLIC
DTSTAMP:20260424T145351Z
END:VEVENT
END:VCALENDAR