BEGIN:VCALENDAR
VERSION:2.0
PRODID:-//Drupal iCal API//EN
X-WR-CALNAME:infoclio.ch - The Swiss portal for the historical sciences: Ca
 lendar
X-WR-TIMEZONE:Europe/Zurich
BEGIN:VTIMEZONE
TZID:Europe/Zurich
X-LIC-LOCATION:Europe/Zurich
BEGIN:DAYLIGHT
TZNAME:CEST
TZOFFSETFROM:+0100
TZOFFSETTO:+0200
DTSTART:20140330T010000
END:DAYLIGHT
BEGIN:STANDARD
TZNAME:CET
TZOFFSETFROM:+0200
TZOFFSETTO:+0100
DTSTART:20141026T010000
END:STANDARD
END:VTIMEZONE
BEGIN:VEVENT
UID:9656ccad-4a3d-4edc-8527-72f343ad9a5f
DTSTART;TZID=Europe/Zurich:20141128T010000
SEQUENCE:0
TRANSP:TRANSPARENT
DTEND;TZID=Europe/Zurich:20141128T010000
URL:https://www.infoclio.ch/fr/colloque-infoclioch-2014-protection-des-donn
 %C3%A9es-et-sciences-historiques
LOCATION:Hotel Bern\,Berne
SUMMARY:Colloque infoclio.ch 2014: Protection des données et sciences\nhis
 toriques
CLASS:PUBLIC
DTSTAMP:20260421T055839Z
END:VEVENT
END:VCALENDAR