BEGIN:VCALENDAR
VERSION:2.0
PRODID:-//Drupal iCal API//EN
X-WR-CALNAME:infoclio.ch - The Swiss portal for the historical sciences: Ca
 lendar
X-WR-TIMEZONE:Europe/Zurich
BEGIN:VTIMEZONE
TZID:Europe/Zurich
X-LIC-LOCATION:Europe/Zurich
BEGIN:DAYLIGHT
TZNAME:CEST
TZOFFSETFROM:+0100
TZOFFSETTO:+0200
DTSTART:20100328T010000
END:DAYLIGHT
BEGIN:STANDARD
TZNAME:CET
TZOFFSETFROM:+0200
TZOFFSETTO:+0100
DTSTART:20101031T010000
END:STANDARD
END:VTIMEZONE
BEGIN:VEVENT
UID:c33015b2-7aa4-422c-8b4c-d2572f78fc77
DTSTART;TZID=Europe/Zurich:20101105T230000
SEQUENCE:0
TRANSP:TRANSPARENT
DTEND;TZID=Europe/Zurich:20101105T230000
URL:https://www.infoclio.ch/fr/le-radicalisme-geneve-au-19%C3%A8me-siecle
LOCATION:Institut National Genevois\,Genève
SUMMARY:LE RADICALISME A GENEVE AU 19ème SIECLE
CLASS:PUBLIC
DTSTAMP:20260420T111937Z
END:VEVENT
END:VCALENDAR