BEGIN:VCALENDAR
VERSION:2.0
PRODID:-//Drupal iCal API//EN
X-WR-CALNAME:infoclio.ch - The Swiss portal for the historical sciences: Ca
 lendar
X-WR-TIMEZONE:Europe/Zurich
BEGIN:VTIMEZONE
TZID:Europe/Zurich
X-LIC-LOCATION:Europe/Zurich
BEGIN:DAYLIGHT
TZNAME:CEST
TZOFFSETFROM:+0100
TZOFFSETTO:+0200
DTSTART:20260329T010000
END:DAYLIGHT
BEGIN:STANDARD
TZNAME:CET
TZOFFSETFROM:+0200
TZOFFSETTO:+0100
DTSTART:20251026T010000
END:STANDARD
END:VTIMEZONE
BEGIN:VEVENT
UID:373963ed-a504-438c-a531-49f95b02fc02
DTSTART;TZID=Europe/Zurich:20260614T110000
SEQUENCE:0
TRANSP:TRANSPARENT
DTEND;TZID=Europe/Zurich:20260614T130000
URL:https://www.infoclio.ch/en/vernissage-website-many-futures-gender-oral-
 history-feminist-theory
LOCATION:Stadttheater Bern\, Foyer\,Bern
SUMMARY:Vernissage Website: The many futures of gender. An oral history of\
 nfeminist theory
CLASS:PUBLIC
DTSTAMP:20260423T133826Z
END:VEVENT
END:VCALENDAR