BEGIN:VCALENDAR
VERSION:2.0
PRODID:-//Drupal iCal API//EN
X-WR-CALNAME:infoclio.ch - The Swiss portal for the historical sciences: Ca
 lendar
X-WR-TIMEZONE:Europe/Zurich
BEGIN:VTIMEZONE
TZID:Europe/Zurich
X-LIC-LOCATION:Europe/Zurich
BEGIN:DAYLIGHT
TZNAME:CEST
TZOFFSETFROM:+0100
TZOFFSETTO:+0200
DTSTART:20260329T010000
END:DAYLIGHT
BEGIN:STANDARD
TZNAME:CET
TZOFFSETFROM:+0200
TZOFFSETTO:+0100
DTSTART:20251026T010000
END:STANDARD
END:VTIMEZONE
BEGIN:VEVENT
UID:0557cc2a-b5bb-4e60-91fa-e3bcaeffe918
DTSTART;TZID=Europe/Zurich:20260528T181500
SEQUENCE:0
TRANSP:TRANSPARENT
DTEND;TZID=Europe/Zurich:20260528T194500
URL:https://www.infoclio.ch/en/caring-university-un-sichtbare-care-arbeit-u
 nd-self-care-der-wissenschaft
LOCATION:Hauptgebäude Universität Bern\,Bern
SUMMARY:\"Caring University?: Un-/Sichtbare Care-Arbeit und Self-Care in de
 r\nWissenschaft\"
CLASS:PUBLIC
DTSTAMP:20260423T133828Z
END:VEVENT
END:VCALENDAR