BEGIN:VCALENDAR
VERSION:2.0
PRODID:-//Drupal iCal API//EN
X-WR-CALNAME:infoclio.ch - The Swiss portal for the historical sciences: Ca
 lendar
X-WR-TIMEZONE:Europe/Zurich
BEGIN:VTIMEZONE
TZID:Europe/Zurich
X-LIC-LOCATION:Europe/Zurich
BEGIN:DAYLIGHT
TZNAME:CEST
TZOFFSETFROM:+0100
TZOFFSETTO:+0200
DTSTART:20260329T010000
END:DAYLIGHT
BEGIN:STANDARD
TZNAME:CET
TZOFFSETFROM:+0200
TZOFFSETTO:+0100
DTSTART:20251026T010000
END:STANDARD
END:VTIMEZONE
BEGIN:VEVENT
UID:1616349c-c5d1-4b5b-831c-107d9735eab4
DTSTART;TZID=Europe/Zurich:20260603T180000
SEQUENCE:0
TRANSP:TRANSPARENT
DTEND;TZID=Europe/Zurich:20260603T194500
URL:https://www.infoclio.ch/en/schuld-schulden-und-das-deutsche-wirtschafts
 wunder-mittwoch-3-juni-2026-1815-uhr
LOCATION:Universität Zürich\, Raum KOL-F-117\,Zürich
SUMMARY:Schuld\, Schulden und das deutsche Wirtschaftswunder\, Mittwoch\, 3
 . Juni\n2026\, 18.15 Uhr
CLASS:PUBLIC
DTSTAMP:20260422T094127Z
END:VEVENT
END:VCALENDAR